BEGIN:VCALENDAR
VERSION:2.0
PRODID:-//www.lorhn.org//NONSGML kigkonsult.se iCalcreator 2.30.10//
CALSCALE:GREGORIAN
METHOD:PUBLISH
UID:f75799fe-b1df-48df-8d05-ef4b784693bf
X-WR-CALDESC:Join Lake Okeechobee Rural Health Network's team of Community 
 Health Advocates to learn what opioids are\, how they affect the brain\, s
 igns of dependence/abuse\, alternative therapies\, and the recovery resour
 ces available
X-WR-RELCALID:4beda0bfab9be1fbd95fc5e7282b92db
X-WR-TIMEZONE:America/New_York
BEGIN:VTIMEZONE
TZID:America/New_York
BEGIN:STANDARD
TZNAME:EST
DTSTART:20201101T020000
TZOFFSETFROM:-0400
TZOFFSETTO:-0500
RDATE:20211107T020000
RDATE:20221106T020000
END:STANDARD
BEGIN:DAYLIGHT
TZNAME:EDT
DTSTART:20210314T020000
TZOFFSETFROM:-0500
TZOFFSETTO:-0400
RDATE:20220313T020000
RDATE:20230312T020000
END:DAYLIGHT
END:VTIMEZONE
BEGIN:VEVENT
UID:4d150953-2e53-4fc6-b9f3-266569327b89
DTSTAMP:20260423T050912Z
DESCRIPTION:Join Lake Okeechobee Rural Health Network's team of Community H
 ealth Advocates to learn what opioids are\, how they affect the brain\, si
 gns of dependence/abuse\, alternative therapies\, and the recovery resourc
 es available
DTSTART;TZID=America/New_York:20211014T120000
DTEND;TZID=America/New_York:20211014T130000
LOCATION:https://rb.gy/8kulvp
SUMMARY:Understanding Opioids\, Addiction\, Prevention & Recovery
END:VEVENT
END:VCALENDAR
