BEGIN:VCALENDAR
VERSION:2.0
PRODID:-//www.lorhn.org//NONSGML kigkonsult.se iCalcreator 2.30.10//
CALSCALE:GREGORIAN
METHOD:PUBLISH
UID:2afc910d-e6d2-48a6-8c22-824de47fff1d
X-WR-CALDESC:Join Lake Okeechobee Rural Health Network for this evidence-ba
 sed six-week series to learn various self-management techniques for anyone
  living with\, or supporting someone with\, Type 2 Diabetes. Family and fr
 iends are welcome to join as well. \n\nLearning topics include monitoring\
 , healthy eating\, problem-solving\, working with health care providers\, 
 and making weekly action plans.\n\n**Participants can only join in Week 1 
 and Week 2**\n\nIndividuals will receive a free 'Living a Healthy Life wit
 h Chronic Conditions' book and a 'Relaxation for Mind & Body' CD.
X-WR-RELCALID:9a1bd60b0c807edf69c126b09e751944
X-WR-TIMEZONE:America/New_York
BEGIN:VTIMEZONE
TZID:America/New_York
BEGIN:STANDARD
TZNAME:EST
DTSTART:20201101T020000
TZOFFSETFROM:-0400
TZOFFSETTO:-0500
RDATE:20211107T020000
RDATE:20221106T020000
END:STANDARD
BEGIN:DAYLIGHT
TZNAME:EDT
DTSTART:20210314T020000
TZOFFSETFROM:-0500
TZOFFSETTO:-0400
RDATE:20220313T020000
RDATE:20230312T020000
END:DAYLIGHT
END:VTIMEZONE
BEGIN:VEVENT
UID:0e376b07-a0f3-4f8b-a330-d391460a57c8
DTSTAMP:20260423T050907Z
DESCRIPTION:Join Lake Okeechobee Rural Health Network for this evidence-bas
 ed six-week series to learn various self-management techniques for anyone 
 living with\, or supporting someone with\, Type 2 Diabetes. Family and fri
 ends are welcome to join as well. \n\nLearning topics include monitoring\,
  healthy eating\, problem-solving\, working with health care providers\, a
 nd making weekly action plans.\n\n**Participants can only join in Week 1 a
 nd Week 2**\n\nIndividuals will receive a free 'Living a Healthy Life with
  Chronic Conditions' book and a 'Relaxation for Mind & Body' CD.
DTSTART;TZID=America/New_York:20211026T180000
DTEND;TZID=America/New_York:20211026T203000
LOCATION:https://rb.gy/cpfnei
SUMMARY:Diabetes Self-Management Workshop
END:VEVENT
END:VCALENDAR
